View In:
ArcGIS JavaScript
ArcGIS Online Map Viewer
ArcGIS Earth
ArcGIS Pro
Service Description:
Map Name: Layers
Legend
All Layers and Tables
Layers:
Description:
Copyright Text:
Spatial Reference:
102100
(3857)
LatestVCSWkid(0)
Single Fused Map Cache: true
Tile Info:
- Height: 256.0
- Width: 256.0
- DPI: 96.0
-
Levels of Detail: 22
-
Level ID: 0
[ Start Tile, End Tile ]
- Resolution: 156543.03392800014
- Scale: 5.91657527591555E8
-
Level ID: 1
[ Start Tile, End Tile ]
- Resolution: 78271.51696400007
- Scale: 2.958287637957775E8
-
Level ID: 2
[ Start Tile, End Tile ]
- Resolution: 39135.758482000034
- Scale: 1.4791438189788875E8
-
Level ID: 3
[ Start Tile, End Tile ]
- Resolution: 19567.879241000017
- Scale: 7.395719094894437E7
-
Level ID: 4
[ Start Tile, End Tile ]
- Resolution: 9783.939620500008
- Scale: 3.697859547447219E7
-
Level ID: 5
[ Start Tile, End Tile ]
- Resolution: 4891.969810250004
- Scale: 1.8489297737236094E7
-
Level ID: 6
[ Start Tile, End Tile ]
- Resolution: 2445.984905125002
- Scale: 9244648.868618047
-
Level ID: 7
[ Start Tile, End Tile ]
- Resolution: 1222.992452562501
- Scale: 4622324.434309023
-
Level ID: 8
[ Start Tile, End Tile ]
- Resolution: 611.4962262812505
- Scale: 2311162.2171545117
-
Level ID: 9
[ Start Tile, End Tile ]
- Resolution: 305.74811314062526
- Scale: 1155581.1085772559
-
Level ID: 10
[ Start Tile, End Tile ]
- Resolution: 152.87405657031263
- Scale: 577790.5542886279
-
Level ID: 11
[ Start Tile, End Tile ]
- Resolution: 76.43702828515632
- Scale: 288895.27714431396
-
Level ID: 12
[ Start Tile, End Tile ]
- Resolution: 38.21851414257816
- Scale: 144447.63857215698
-
Level ID: 13
[ Start Tile, End Tile ]
- Resolution: 19.10925707128908
- Scale: 72223.81928607849
-
Level ID: 14
[ Start Tile, End Tile ]
- Resolution: 9.55462853564454
- Scale: 36111.909643039246
-
Level ID: 15
[ Start Tile, End Tile ]
- Resolution: 4.77731426782227
- Scale: 18055.954821519623
-
Level ID: 16
[ Start Tile, End Tile ]
- Resolution: 2.388657133911135
- Scale: 9027.977410759811
-
Level ID: 17
[ Start Tile, End Tile ]
- Resolution: 1.1943285669555674
- Scale: 4513.988705379906
-
Level ID: 18
[ Start Tile, End Tile ]
- Resolution: 0.5971642834777837
- Scale: 2256.994352689953
-
Level ID: 19
[ Start Tile, End Tile ]
- Resolution: 0.29858214173889186
- Scale: 1128.4971763449764
-
Level ID: 20
[ Start Tile, End Tile ]
- Resolution: 0.14929107086944593
- Scale: 564.2485881724882
-
Level ID: 21
[ Start Tile, End Tile ]
- Resolution: 0.07464553543472296
- Scale: 282.1242940862441
- Format: MIXED
- Compression Quality: 80.0
- Origin: X: -2.0037508342787E7
Y: 2.0037508342787E7
- Spatial Reference: 102100
(3857)
LatestVCSWkid(0)
Storage Info:
- Storage Format: esriMapCacheStorageModeCompactV2
- Packet Size: 128
Initial Extent:
XMin: -9324105.156438893
YMin: 4824563.262764996
XMax: -9151726.841561107
YMax: 4934808.405135
Spatial Reference: 102100
(3857)
LatestVCSWkid(0)
Full Extent:
XMin: -9268704.0414
YMin: 4829574.405599996
XMax: -9207127.9566
YMax: 4929797.2623
Spatial Reference: 102100
(3857)
LatestVCSWkid(0)
Units: esriMeters
Supported Image Format Types: PNG32,PNG24,PNG,JPG,DIB,TIFF,EMF,PS,PDF,GIF,SVG,SVGZ,BMP
Document Info:
Title: Untitled.aprx
Author:
Comments:
Subject:
Category:
Keywords: 2021 Imagery
AntialiasingMode: Fast
TextAntialiasingMode: Force
Supports Dynamic Layers: false
MaxRecordCount: 2000
MaxSelectionCount: 2000
MaxImageHeight: 4096
MaxImageWidth: 4096
Supported Query Formats: JSON, geoJSON, PBF
Supports Query Data Elements: true
Min Scale: 577790.5542886279
Max Scale: 282.1242940862441
Supports Datum Transformation: true
Child Resources:
Info
Supported Operations:
Export Map
Identify
QueryLegends
QueryDomains
Find
Return Updates